BEGIN:VCALENDAR
VERSION:2.0
PRODID:-//Treppocarnico.org - ECPv6.15.13//NONSGML v1.0//EN
CALSCALE:GREGORIAN
METHOD:PUBLISH
X-ORIGINAL-URL:https://treppocarnico.org
X-WR-CALDESC:Eventi per Treppocarnico.org
REFRESH-INTERVAL;VALUE=DURATION:PT1H
X-Robots-Tag:noindex
X-PUBLISHED-TTL:PT1H
BEGIN:VTIMEZONE
TZID:Europe/Rome
BEGIN:DAYLIGHT
TZOFFSETFROM:+0100
TZOFFSETTO:+0200
TZNAME:CEST
DTSTART:20230326T010000
END:DAYLIGHT
BEGIN:STANDARD
TZOFFSETFROM:+0200
TZOFFSETTO:+0100
TZNAME:CET
DTSTART:20231029T010000
END:STANDARD
BEGIN:DAYLIGHT
TZOFFSETFROM:+0100
TZOFFSETTO:+0200
TZNAME:CEST
DTSTART:20240331T010000
END:DAYLIGHT
BEGIN:STANDARD
TZOFFSETFROM:+0200
TZOFFSETTO:+0100
TZNAME:CET
DTSTART:20241027T010000
END:STANDARD
BEGIN:DAYLIGHT
TZOFFSETFROM:+0100
TZOFFSETTO:+0200
TZNAME:CEST
DTSTART:20250330T010000
END:DAYLIGHT
BEGIN:STANDARD
TZOFFSETFROM:+0200
TZOFFSETTO:+0100
TZNAME:CET
DTSTART:20251026T010000
END:STANDARD
END:VTIMEZONE
BEGIN:VEVENT
DTSTART;TZID=Europe/Rome:20240622T203000
DTEND;TZID=Europe/Rome:20240622T223000
DTSTAMP:20260425T014648
CREATED:20240617T150053Z
LAST-MODIFIED:20240617T143443Z
UID:14350-1719088200-1719095400@treppocarnico.org
SUMMARY:Spettacolo teatrale "tutta colpa di uno smartphone"
DESCRIPTION:L’Associazione culturale “Elio cav. Cortolezzis” in collaborazione con la Proloco di Paluzza\, è lieta di invitarvi per sabato 22 giugno alle ore 20.30 a “Tutta colpa di uno smarphone”\, commedia brillante in due atti con la Filodrammatica dell’Università della Terza Età della Carnia\, scritta e diretta da Edda Plazzotta. \nINGRESSO LIBERO
URL:https://treppocarnico.org/evento/spettacolo-teatrale-tutta-colpa-di-uno-smartphone/
LOCATION:Cinema Daniel\, Via Pal Piccolo\, Paluzza\, Udine\, 33026\, Italia
CATEGORIES:Teatro
ATTACH;FMTTYPE=image/jpeg:https://treppocarnico.org/wp-content/uploads/2024/06/EVENTO_EDDA2.jpg
ORGANIZER;CN="Associazione Culturale Elio Cav. Cortolezzis":MAILTO:angela.cortolezzis@live.it
END:VEVENT
END:VCALENDAR