BEGIN:VCALENDAR
VERSION:2.0
PRODID:-//Treppocarnico.org - ECPv6.15.13//NONSGML v1.0//EN
CALSCALE:GREGORIAN
METHOD:PUBLISH
X-ORIGINAL-URL:https://treppocarnico.org
X-WR-CALDESC:Eventi per Treppocarnico.org
REFRESH-INTERVAL;VALUE=DURATION:PT1H
X-Robots-Tag:noindex
X-PUBLISHED-TTL:PT1H
BEGIN:VTIMEZONE
TZID:Europe/Rome
BEGIN:DAYLIGHT
TZOFFSETFROM:+0100
TZOFFSETTO:+0200
TZNAME:CEST
DTSTART:20180325T010000
END:DAYLIGHT
BEGIN:STANDARD
TZOFFSETFROM:+0200
TZOFFSETTO:+0100
TZNAME:CET
DTSTART:20181028T010000
END:STANDARD
BEGIN:DAYLIGHT
TZOFFSETFROM:+0100
TZOFFSETTO:+0200
TZNAME:CEST
DTSTART:20190331T010000
END:DAYLIGHT
BEGIN:STANDARD
TZOFFSETFROM:+0200
TZOFFSETTO:+0100
TZNAME:CET
DTSTART:20191027T010000
END:STANDARD
BEGIN:DAYLIGHT
TZOFFSETFROM:+0100
TZOFFSETTO:+0200
TZNAME:CEST
DTSTART:20200329T010000
END:DAYLIGHT
BEGIN:STANDARD
TZOFFSETFROM:+0200
TZOFFSETTO:+0100
TZNAME:CET
DTSTART:20201025T010000
END:STANDARD
END:VTIMEZONE
BEGIN:VEVENT
DTSTART;TZID=Europe/Rome:20190216T150000
DTEND;TZID=Europe/Rome:20190216T183000
DTSTAMP:20260424T113522
CREATED:20190202T091937Z
LAST-MODIFIED:20190202T091937Z
UID:8189-1550329200-1550341800@treppocarnico.org
SUMMARY:Festa di Carnevale a Treppo
DESCRIPTION:Sabato 16 Febbraio 2019 l’Associazione Culturale Elio Cav. Cortolezzis organizza la consueta sfilata di Carnevale per le vie del nostro paese (tempo permettendo). Alle ore 15.00 partirà il nostro coloratissimo corteo mascherato con la presenza di MISTICKO DANCE\, mentre alle ore 16.00 intrattenimento con il mago URSUS presso la sala polifunzionale in via G. Leopardi. Durante la festa ci sarà la premiazione per la mascherina più graziosa\, più divertente\, più spaventosa\, più piccina…..ed anche per il gruppo più numeroso. Non mancate!
URL:https://treppocarnico.org/evento/festa-di-carnevale-a-treppo/
LOCATION:Sala Polifunzionale\, via G. Leopardi\, Treppo Carnico\, 33020
CATEGORIES:Incontri e convegni
ATTACH;FMTTYPE=image/jpeg:https://treppocarnico.org/wp-content/uploads/2019/02/carnevale_2019.jpg
ORGANIZER;CN="Associazione Culturale Elio Cav. Cortolezzis":MAILTO:angela.cortolezzis@live.it
END:VEVENT
END:VCALENDAR