BEGIN:VCALENDAR
VERSION:2.0
PRODID:-//Treppocarnico.org - ECPv6.15.13//NONSGML v1.0//EN
CALSCALE:GREGORIAN
METHOD:PUBLISH
X-WR-CALNAME:Treppocarnico.org
X-ORIGINAL-URL:https://treppocarnico.org
X-WR-CALDESC:Eventi per Treppocarnico.org
REFRESH-INTERVAL;VALUE=DURATION:PT1H
X-Robots-Tag:noindex
X-PUBLISHED-TTL:PT1H
BEGIN:VTIMEZONE
TZID:Europe/Rome
BEGIN:DAYLIGHT
TZOFFSETFROM:+0100
TZOFFSETTO:+0200
TZNAME:CEST
DTSTART:20220327T010000
END:DAYLIGHT
BEGIN:STANDARD
TZOFFSETFROM:+0200
TZOFFSETTO:+0100
TZNAME:CET
DTSTART:20221030T010000
END:STANDARD
BEGIN:DAYLIGHT
TZOFFSETFROM:+0100
TZOFFSETTO:+0200
TZNAME:CEST
DTSTART:20230326T010000
END:DAYLIGHT
BEGIN:STANDARD
TZOFFSETFROM:+0200
TZOFFSETTO:+0100
TZNAME:CET
DTSTART:20231029T010000
END:STANDARD
BEGIN:DAYLIGHT
TZOFFSETFROM:+0100
TZOFFSETTO:+0200
TZNAME:CEST
DTSTART:20240331T010000
END:DAYLIGHT
BEGIN:STANDARD
TZOFFSETFROM:+0200
TZOFFSETTO:+0100
TZNAME:CET
DTSTART:20241027T010000
END:STANDARD
END:VTIMEZONE
BEGIN:VTIMEZONE
TZID:UTC
BEGIN:STANDARD
TZOFFSETFROM:+0000
TZOFFSETTO:+0000
TZNAME:UTC
DTSTART:20220101T000000
END:STANDARD
END:VTIMEZONE
BEGIN:VEVENT
DTSTART;TZID=Europe/Rome:20231209T180000
DTEND;TZID=Europe/Rome:20231209T190000
DTSTAMP:20260424T212353
CREATED:20231202T170813Z
LAST-MODIFIED:20231130T121652Z
UID:12533-1702144800-1702148400@treppocarnico.org
SUMMARY:Presentazione del libro "La Placiute. Storie di chi non fa storia"
DESCRIPTION:Il circolo Culturale “Enfretors” di Paluzza\, in collaborazione con L’Amministrazione Comunale di Treppo Ligosullo\, sono lieti di invitarvi sabato 9 dicembre alle ore 18.00 alla presentazione della riedizione del libro di Alfio Englaro “La Placiute. Storie di chi non fa storia”. Rivivono in questa singolare galleria personaggi umilissimi\, alcuni dei quali confinati ai margini di un piccolo paese della Carnia\, Paluzza; personaggi che non hanno fatto la storia\, sono passati senza lasciare traccia\, senza epigrafi o ritratti e neppure fotografie. \nL’autore\, uno dei tantissimi bambini del dopoguerra\, da adulto ha trascritto fatti e situazioni vissute nel suo paese\, conservando nel cuore il fascino di un tempo lontano che riemerge attraverso il filtro della memoria\, filtro che non rispetta la temporalità degli eventi né si preoccupa di approfondire cause e conseguenze. In questa piccola collana di pedagogiche micro-storie\, Paluzza diventa l’archetipo di tanti altri paesi che trovano posto nella memoria collettiva. \nNel corso della serata interverranno: \nMatteo de Cecco\nil perché della riedizione de “la placiute” \nUgo Pittino\n“la Placiute”\, nel ricordo degli amici d’infanzia di Alfio \nGiuseppina Pittino\nAlfio Englaro come collaboratore di VTC \nPaolo Agostinis\nEnglaro medico per vocazione \nIgino Piutti\nAlfio vivo ancora nel suo sito “Cjargne online”\n \nGli interventi saranno intervallati da alcuni brani interpretati da Barbara De Cillia\, Marco Comino e Daniel Spizzo. \nINGRESSO LIBERO \n 
URL:https://treppocarnico.org/evento/presentazione-del-libro-la-placiute/
LOCATION:Galleria d’Arte Moderna Enrico De Cillia\, Via Giacomo Matteotti 12\, Treppo Carnico\, Udine\, 33020\, Italia
CATEGORIES:Concerti,Presentazione
ATTACH;FMTTYPE=image/jpeg:https://treppocarnico.org/wp-content/uploads/2023/11/alfio2.jpg
END:VEVENT
BEGIN:VEVENT
DTSTART;TZID=UTC:20230923T173000
DTEND;TZID=UTC:20230923T183000
DTSTAMP:20260424T212353
CREATED:20230918T052234Z
LAST-MODIFIED:20230917T173142Z
UID:12193-1695490200-1695493800@treppocarnico.org
SUMMARY:Presentazione del libro "PAKAI - IL TRIO CHE SI É FATTO IN QUATTRO"
DESCRIPTION:Sabato 23 settembre 2023 ore 17.30 presso la Galleria d’Arte Moderna “Enrico De Cillia” di Treppo Ligosullo\, siete calorosamente invitati alla presentazione del libro scritto da Alessio Screm edito da Nota con i Giovins Cjanterins di Cleulas PAKAI – IL TRIO CHE SI É FATTO IN QUATTRO.\nStoria e aneddoti del mito musicale carnico che ha fatto ballare\, cantare e sognare un’epoca. Sarà dato spazio all’Autore con la partecipazione dei protagonisti dello storico trio: Paolo Morocutti\, Stefano Paletti ed Ennio Del Fabbro. Seguirà un momento conviviale.
URL:https://treppocarnico.org/evento/presentazione-del-libro-pakai-il-trio-che-si-e-fatto-in-quattro/
LOCATION:Galleria d’Arte Moderna Enrico De Cillia\, Via Giacomo Matteotti 12\, Treppo Carnico\, Udine\, 33020\, Italia
CATEGORIES:Presentazione
ATTACH;FMTTYPE=image/jpeg:https://treppocarnico.org/wp-content/uploads/2023/09/PAKAI2.jpg
ORGANIZER;CN="Associazione Culturale Elio Cav. Cortolezzis":MAILTO:angela.cortolezzis@live.it
END:VEVENT
BEGIN:VEVENT
DTSTART;TZID=UTC:20230805T103000
DTEND;TZID=UTC:20230805T120000
DTSTAMP:20260424T212353
CREATED:20230729T080054Z
LAST-MODIFIED:20230729T064919Z
UID:12146-1691231400-1691236800@treppocarnico.org
SUMMARY:Invito all'apertura della Galleria De Cillia
DESCRIPTION:L’Amminstrazione Comunale desidera invitare la popolazione tutta a partecipare alla nuova apertura della Galleria d’Arte Moderna “Enrico De Cillia”. Verranno esposte le nuove funzionalità e le prospettive future per questa nostra importante realtà museale. Per l’occasione e per tutta la giornata\, la visita alle mostre permanenti sarà completamente gratuita. \nAlla fine della cerimonia verrà offerto a tutti i presenti un momento conviviale ed una bicchierata.
URL:https://treppocarnico.org/evento/invito-allapertura-della-galleria-de-cillia/
LOCATION:Galleria d’Arte Moderna Enrico De Cillia\, Via Giacomo Matteotti 12\, Treppo Carnico\, Udine\, 33020\, Italia
CATEGORIES:Presentazione
ATTACH;FMTTYPE=image/jpeg:https://treppocarnico.org/wp-content/uploads/2023/07/decillia.jpg
ORGANIZER;CN="Amministrazione Comunale di Treppo Ligosullo":MAILTO:anagrafe@comune.treppoligosullo.ud.it
END:VEVENT
END:VCALENDAR