BEGIN:VCALENDAR
VERSION:2.0
PRODID:-//Treppocarnico.org - ECPv6.15.13//NONSGML v1.0//EN
CALSCALE:GREGORIAN
METHOD:PUBLISH
X-WR-CALNAME:Treppocarnico.org
X-ORIGINAL-URL:https://treppocarnico.org
X-WR-CALDESC:Eventi per Treppocarnico.org
REFRESH-INTERVAL;VALUE=DURATION:PT1H
X-Robots-Tag:noindex
X-PUBLISHED-TTL:PT1H
BEGIN:VTIMEZONE
TZID:Europe/Rome
BEGIN:DAYLIGHT
TZOFFSETFROM:+0100
TZOFFSETTO:+0200
TZNAME:CEST
DTSTART:20190331T010000
END:DAYLIGHT
BEGIN:STANDARD
TZOFFSETFROM:+0200
TZOFFSETTO:+0100
TZNAME:CET
DTSTART:20191027T010000
END:STANDARD
BEGIN:DAYLIGHT
TZOFFSETFROM:+0100
TZOFFSETTO:+0200
TZNAME:CEST
DTSTART:20200329T010000
END:DAYLIGHT
BEGIN:STANDARD
TZOFFSETFROM:+0200
TZOFFSETTO:+0100
TZNAME:CET
DTSTART:20201025T010000
END:STANDARD
BEGIN:DAYLIGHT
TZOFFSETFROM:+0100
TZOFFSETTO:+0200
TZNAME:CEST
DTSTART:20210328T010000
END:DAYLIGHT
BEGIN:STANDARD
TZOFFSETFROM:+0200
TZOFFSETTO:+0100
TZNAME:CET
DTSTART:20211031T010000
END:STANDARD
END:VTIMEZONE
BEGIN:VEVENT
DTSTART;TZID=Europe/Rome:20200721T210000
DTEND;TZID=Europe/Rome:20200721T223000
DTSTAMP:20260424T085313
CREATED:20200713T185643Z
LAST-MODIFIED:20200630T190521Z
UID:9605-1595365200-1595370600@treppocarnico.org
SUMMARY:Cinegiovani Estate "Mulan 2"
DESCRIPTION:MARTEDI’ FILM ALL’APERTO\nL’Associazione Culturale “Elio cav. Cortolezzis” con la collaborazione del Comune di Treppo Ligosullo presenta CineGiovani Estate.  Martedì 21 luglio a Treppo presso il cortile antistante la biblioteca\, verrà proiettato il film di animazione “Mulan 2”. Saranno rispettate le disposizioni in tema di contenimento del contagio da Covid-19. \nIngresso libero \nInfo: Associazione Culturale “Elio cav. Cortolezzis”   377 2905666
URL:https://treppocarnico.org/evento/cinegiovani-estate-mulan-2/
LOCATION:Biblioteca comunale\, Via Giacomo matteotti n°9\, Treppo Carnico\, UD\, 33014\, Italia
CATEGORIES:Incontri e convegni
ATTACH;FMTTYPE=image/jpeg:https://treppocarnico.org/wp-content/uploads/2020/06/film_mulan2.jpg
ORGANIZER;CN="Associazione Culturale Elio Cav. Cortolezzis":MAILTO:angela.cortolezzis@live.it
END:VEVENT
END:VCALENDAR