BEGIN:VCALENDAR
VERSION:2.0
PRODID:-//Treppocarnico.org - ECPv6.15.13//NONSGML v1.0//EN
CALSCALE:GREGORIAN
METHOD:PUBLISH
X-ORIGINAL-URL:https://treppocarnico.org
X-WR-CALDESC:Eventi per Treppocarnico.org
REFRESH-INTERVAL;VALUE=DURATION:PT1H
X-Robots-Tag:noindex
X-PUBLISHED-TTL:PT1H
BEGIN:VTIMEZONE
TZID:Europe/Rome
BEGIN:DAYLIGHT
TZOFFSETFROM:+0100
TZOFFSETTO:+0200
TZNAME:CEST
DTSTART:20210328T010000
END:DAYLIGHT
BEGIN:STANDARD
TZOFFSETFROM:+0200
TZOFFSETTO:+0100
TZNAME:CET
DTSTART:20211031T010000
END:STANDARD
BEGIN:DAYLIGHT
TZOFFSETFROM:+0100
TZOFFSETTO:+0200
TZNAME:CEST
DTSTART:20220327T010000
END:DAYLIGHT
BEGIN:STANDARD
TZOFFSETFROM:+0200
TZOFFSETTO:+0100
TZNAME:CET
DTSTART:20221030T010000
END:STANDARD
BEGIN:DAYLIGHT
TZOFFSETFROM:+0100
TZOFFSETTO:+0200
TZNAME:CEST
DTSTART:20230326T010000
END:DAYLIGHT
BEGIN:STANDARD
TZOFFSETFROM:+0200
TZOFFSETTO:+0100
TZNAME:CET
DTSTART:20231029T010000
END:STANDARD
BEGIN:DAYLIGHT
TZOFFSETFROM:+0100
TZOFFSETTO:+0200
TZNAME:CEST
DTSTART:20240331T010000
END:DAYLIGHT
BEGIN:STANDARD
TZOFFSETFROM:+0200
TZOFFSETTO:+0100
TZNAME:CET
DTSTART:20241027T010000
END:STANDARD
BEGIN:DAYLIGHT
TZOFFSETFROM:+0100
TZOFFSETTO:+0200
TZNAME:CEST
DTSTART:20250330T010000
END:DAYLIGHT
BEGIN:STANDARD
TZOFFSETFROM:+0200
TZOFFSETTO:+0100
TZNAME:CET
DTSTART:20251026T010000
END:STANDARD
BEGIN:DAYLIGHT
TZOFFSETFROM:+0100
TZOFFSETTO:+0200
TZNAME:CEST
DTSTART:20260329T010000
END:DAYLIGHT
BEGIN:STANDARD
TZOFFSETFROM:+0200
TZOFFSETTO:+0100
TZNAME:CET
DTSTART:20261025T010000
END:STANDARD
END:VTIMEZONE
BEGIN:VEVENT
DTSTART;TZID=Europe/Rome:20251025T203000
DTEND;TZID=Europe/Rome:20251025T223000
DTSTAMP:20260425T004709
CREATED:20251011T111032Z
LAST-MODIFIED:20251011T102230Z
UID:19810-1761424200-1761431400@treppocarnico.org
SUMMARY:Spettacolo teatrale "Natale in Lapponia: il ritorno"
DESCRIPTION:L’Associazione culturale “Elio cav. Cortolezzis”\, in collaborazione con la Proloco di Paluzza\, è lieta di invitarvi per sabato 25 ottobre alle ore 20.30\, presso il Cinema teatro Daniel di Paluzza\, alla commedia teatrale intitolata “Natale in Lapponia: il ritorno”\, commedia brillante in due atti con la Filodrammatica dell’Università della Terza Età della Carnia A.P.S. scritta e diretta da Edda Plazzotta. \nINGRESSO LIBERO
URL:https://treppocarnico.org/evento/spettacolo-teatrale-natale-in-lapponia-il-ritorno/
LOCATION:Cinema Daniel\, Via Pal Piccolo\, Paluzza\, Udine\, 33026\, Italia
CATEGORIES:Teatro
ATTACH;FMTTYPE=image/jpeg:https://treppocarnico.org/wp-content/uploads/2025/10/lapponia2.jpg
ORGANIZER;CN="Associazione Culturale Elio Cav. Cortolezzis":MAILTO:angela.cortolezzis@live.it
END:VEVENT
BEGIN:VEVENT
DTSTART;TZID=Europe/Rome:20220722T204500
DTEND;TZID=Europe/Rome:20220722T223000
DTSTAMP:20260425T004709
CREATED:20220716T142713Z
LAST-MODIFIED:20220713T142200Z
UID:11396-1658522700-1658529000@treppocarnico.org
SUMMARY:La magia delle Aurore Boreali
DESCRIPTION:L’Associazione Culturale Elio Cav. Cortolezzis\, con il patrocinio del Comune di Treppo Ligosullo e Biblioteca comunale\, è lieta di invitarvi alla presentazione dei viaggi in Lapponia di Gabriele Menis\, che curerà la serata con descrizioni e foto. \nL’evento si svolgerà presso la Piazza cooperazione o caso maltempo in Galleria d’Arte Moderna. \n\n		\n		\n			\n				\n			\n			\n				\n			\n			\n				\n			\n		\n\nIngresso con offerta libera regolamentato nel rispetto delle disposizioni di sicurezza anti covid-19.
URL:https://treppocarnico.org/evento/la-magia-delle-aurore-boreali/
LOCATION:Piazza della cooperazione\, Via matteotti\, 20\, treppo Carnico\, italy\, 33020\, Italia
CATEGORIES:Incontri e convegni
ATTACH;FMTTYPE=image/jpeg:https://treppocarnico.org/wp-content/uploads/2022/07/boreali.jpg
ORGANIZER;CN="Associazione Culturale Elio Cav. Cortolezzis":MAILTO:angela.cortolezzis@live.it
END:VEVENT
END:VCALENDAR