BEGIN:VCALENDAR
VERSION:2.0
PRODID:-//Treppocarnico.org - ECPv6.15.13//NONSGML v1.0//EN
CALSCALE:GREGORIAN
METHOD:PUBLISH
X-WR-CALNAME:Treppocarnico.org
X-ORIGINAL-URL:https://treppocarnico.org
X-WR-CALDESC:Eventi per Treppocarnico.org
REFRESH-INTERVAL;VALUE=DURATION:PT1H
X-Robots-Tag:noindex
X-PUBLISHED-TTL:PT1H
BEGIN:VTIMEZONE
TZID:Europe/Rome
BEGIN:DAYLIGHT
TZOFFSETFROM:+0100
TZOFFSETTO:+0200
TZNAME:CEST
DTSTART:20180325T010000
END:DAYLIGHT
BEGIN:STANDARD
TZOFFSETFROM:+0200
TZOFFSETTO:+0100
TZNAME:CET
DTSTART:20181028T010000
END:STANDARD
BEGIN:DAYLIGHT
TZOFFSETFROM:+0100
TZOFFSETTO:+0200
TZNAME:CEST
DTSTART:20190331T010000
END:DAYLIGHT
BEGIN:STANDARD
TZOFFSETFROM:+0200
TZOFFSETTO:+0100
TZNAME:CET
DTSTART:20191027T010000
END:STANDARD
BEGIN:DAYLIGHT
TZOFFSETFROM:+0100
TZOFFSETTO:+0200
TZNAME:CEST
DTSTART:20200329T010000
END:DAYLIGHT
BEGIN:STANDARD
TZOFFSETFROM:+0200
TZOFFSETTO:+0100
TZNAME:CET
DTSTART:20201025T010000
END:STANDARD
BEGIN:DAYLIGHT
TZOFFSETFROM:+0100
TZOFFSETTO:+0200
TZNAME:CEST
DTSTART:20210328T010000
END:DAYLIGHT
BEGIN:STANDARD
TZOFFSETFROM:+0200
TZOFFSETTO:+0100
TZNAME:CET
DTSTART:20211031T010000
END:STANDARD
BEGIN:DAYLIGHT
TZOFFSETFROM:+0100
TZOFFSETTO:+0200
TZNAME:CEST
DTSTART:20220327T010000
END:DAYLIGHT
BEGIN:STANDARD
TZOFFSETFROM:+0200
TZOFFSETTO:+0100
TZNAME:CET
DTSTART:20221030T010000
END:STANDARD
BEGIN:DAYLIGHT
TZOFFSETFROM:+0100
TZOFFSETTO:+0200
TZNAME:CEST
DTSTART:20230326T010000
END:DAYLIGHT
BEGIN:STANDARD
TZOFFSETFROM:+0200
TZOFFSETTO:+0100
TZNAME:CET
DTSTART:20231029T010000
END:STANDARD
BEGIN:DAYLIGHT
TZOFFSETFROM:+0100
TZOFFSETTO:+0200
TZNAME:CEST
DTSTART:20240331T010000
END:DAYLIGHT
BEGIN:STANDARD
TZOFFSETFROM:+0200
TZOFFSETTO:+0100
TZNAME:CET
DTSTART:20241027T010000
END:STANDARD
END:VTIMEZONE
BEGIN:VEVENT
DTSTART;TZID=Europe/Rome:20231031T173000
DTEND;TZID=Europe/Rome:20231031T223000
DTSTAMP:20260425T055455
CREATED:20231029T085710Z
LAST-MODIFIED:20231029T085710Z
UID:12231-1698773400-1698791400@treppocarnico.org
SUMMARY:La fieste da Lûs
DESCRIPTION:L’Associazione di promozione sociale “La Scune” e le parrocchie di collaborazione pastorale di Paluzza organizzano per martedì 31 ottobre presso l’oratorio di Sutrio la “Fieste da Lûs”. L’evento sarà un grande spettacolo di balli e canti\, per prepararsi al meglio alla festa di tutti i Santi. I fondi raccolti saranno inviati a fratel Duilio Plazzotta\, originario di Ligosullo\, per completare la costruzione della chiesa di Sant’Anna della missione di Isiro (R.D. del Congo). \nIL PROGRAMMA: \n17.30 Accoglienza\, merenda e musica \n18.00 Attività \n18.30 Processione della Luce e Santa Messa \n20.00 Pasta per tutti i ragazzi iscritti (se qualche genitore vuole fermarsi a mangiare deve prenotarsi) \n21.00 Grande spettacolo (a cui sono invitati anche i genitori) e premiazione. \nPER ISCRIZIONI (dai 6 anni in su): \nRivolgersi al proprio catechista entro domenica 29 ottobre. Quota di partecipazione e solidarietà: 5.00Euro (se qualcuna ha difficoltà a pagare la quota si iscriva e non la versi). I parenti dei ragazzi sono invitati alle 18.30 alla Processione e alla S.Messa.
URL:https://treppocarnico.org/evento/la-fieste-da-lus/
LOCATION:Oratorio di Sutrio\, Via Roma\, Sutrio\, Udine\, 33020\, Italia
CATEGORIES:Incontri e convegni
ATTACH;FMTTYPE=image/jpeg:https://treppocarnico.org/wp-content/uploads/2023/10/fiestedalus.jpg
ORGANIZER;CN="La Scune":MAILTO:lascune@libero.it
END:VEVENT
BEGIN:VEVENT
DTSTART;TZID=Europe/Rome:20191213T203000
DTEND;TZID=Europe/Rome:20191213T223000
DTSTAMP:20260425T055455
CREATED:20191205T201447Z
LAST-MODIFIED:20191205T202057Z
UID:8778-1576269000-1576276200@treppocarnico.org
SUMMARY:Incontro all'uso sicuro di smartphones e videogames
DESCRIPTION:La sfida del digitale in Famiglia\nVi invitiamo alla serata informativa su strategie per proteggere ed accompagnare i figli all’utilizzo consapevole e sicuro di smartphones e videogames. Si parlerà dei comportamenti a rischio degli studenti e le responsabilità legali degli adulti. \nRegole e suggerimenti basati sulle normative vigenti e i consigli da parte di psicologi e pediatri. Relatore della serata sarà Giacomo Trevisan\, esperto di sicurezza online e prevenzione del cyberbullismo\, Coordinatore Regionale dell’Associazione M.E.C.
URL:https://treppocarnico.org/evento/incontro-alluso-sicuro-di-smartphones-e-videogames/
LOCATION:Cinema Daniel\, Via Pal Piccolo\, Paluzza\, Udine\, 33026\, Italia
CATEGORIES:Incontri e convegni
ATTACH;FMTTYPE=image/jpeg:https://treppocarnico.org/wp-content/uploads/2019/12/sfida_digitale.jpg
ORGANIZER;CN="La Scune":MAILTO:lascune@libero.it
END:VEVENT
END:VCALENDAR