BEGIN:VCALENDAR
VERSION:2.0
PRODID:-//Treppocarnico.org - ECPv6.15.13//NONSGML v1.0//EN
CALSCALE:GREGORIAN
METHOD:PUBLISH
X-ORIGINAL-URL:https://treppocarnico.org
X-WR-CALDESC:Eventi per Treppocarnico.org
REFRESH-INTERVAL;VALUE=DURATION:PT1H
X-Robots-Tag:noindex
X-PUBLISHED-TTL:PT1H
BEGIN:VTIMEZONE
TZID:Europe/Rome
BEGIN:DAYLIGHT
TZOFFSETFROM:+0100
TZOFFSETTO:+0200
TZNAME:CEST
DTSTART:20230326T010000
END:DAYLIGHT
BEGIN:STANDARD
TZOFFSETFROM:+0200
TZOFFSETTO:+0100
TZNAME:CET
DTSTART:20231029T010000
END:STANDARD
BEGIN:DAYLIGHT
TZOFFSETFROM:+0100
TZOFFSETTO:+0200
TZNAME:CEST
DTSTART:20240331T010000
END:DAYLIGHT
BEGIN:STANDARD
TZOFFSETFROM:+0200
TZOFFSETTO:+0100
TZNAME:CET
DTSTART:20241027T010000
END:STANDARD
BEGIN:DAYLIGHT
TZOFFSETFROM:+0100
TZOFFSETTO:+0200
TZNAME:CEST
DTSTART:20250330T010000
END:DAYLIGHT
BEGIN:STANDARD
TZOFFSETFROM:+0200
TZOFFSETTO:+0100
TZNAME:CET
DTSTART:20251026T010000
END:STANDARD
END:VTIMEZONE
BEGIN:VTIMEZONE
TZID:UTC
BEGIN:STANDARD
TZOFFSETFROM:+0000
TZOFFSETTO:+0000
TZNAME:UTC
DTSTART:20220101T000000
END:STANDARD
END:VTIMEZONE
BEGIN:VEVENT
DTSTART;TZID=Europe/Rome:20240730T204500
DTEND;TZID=Europe/Rome:20240730T220000
DTSTAMP:20260424T192823
CREATED:20240726T072933Z
LAST-MODIFIED:20240725T073701Z
UID:16095-1722372300-1722376800@treppocarnico.org
SUMMARY:Talenti in semplicità 2024
DESCRIPTION:L’Associazione Culturale “Elio Cav. Cortolezzis” è lieta di invitarvi martedì 30 luglio ad una serata speciale\, di musica e divertimento. Un invito rivolto a tutti\, sia ai bambini che agli adulti. Scegliete come esibirvi\, gli artisti siete voi. Karaoke e tanto altro ancora. Vi aspettiamo numerosi.
URL:https://treppocarnico.org/evento/talenti-in-semplicita-2024/
LOCATION:Biblioteca comunale\, Via Giacomo matteotti n°9\, Treppo Carnico\, UD\, 33014\, Italia
CATEGORIES:Concerti
ATTACH;FMTTYPE=image/jpeg:https://treppocarnico.org/wp-content/uploads/2023/07/karaoke.jpg
ORGANIZER;CN="Associazione Culturale Elio Cav. Cortolezzis":MAILTO:angela.cortolezzis@live.it
END:VEVENT
BEGIN:VEVENT
DTSTART;TZID=UTC:20230801T204500
DTEND;TZID=UTC:20230801T220000
DTSTAMP:20260424T192823
CREATED:20230727T185506Z
LAST-MODIFIED:20230727T185506Z
UID:12134-1690922700-1690927200@treppocarnico.org
SUMMARY:Talenti in semplicità...
DESCRIPTION:L’Associazione Culturale “Elio Cav. Cortolezzis” è lieta di invitarvi ad una serata speciale assieme all’Accademia sperimentale spettacolo Carnia. Scegliete come esibirvi\, gli artisti siete voi. Karaoke\, dance e tanto altro ancora…
URL:https://treppocarnico.org/evento/talenti-in-semplicita/
LOCATION:Galleria d’Arte Moderna Enrico De Cillia\, Via Giacomo Matteotti 12\, Treppo Carnico\, Udine\, 33020\, Italia
CATEGORIES:Concerti
ATTACH;FMTTYPE=image/jpeg:https://treppocarnico.org/wp-content/uploads/2023/07/karaoke.jpg
ORGANIZER;CN="Associazione Culturale Elio Cav. Cortolezzis":MAILTO:angela.cortolezzis@live.it
END:VEVENT
END:VCALENDAR