BEGIN:VCALENDAR
VERSION:2.0
PRODID:-//Treppocarnico.org - ECPv6.15.13//NONSGML v1.0//EN
CALSCALE:GREGORIAN
METHOD:PUBLISH
X-WR-CALNAME:Treppocarnico.org
X-ORIGINAL-URL:https://treppocarnico.org
X-WR-CALDESC:Eventi per Treppocarnico.org
REFRESH-INTERVAL;VALUE=DURATION:PT1H
X-Robots-Tag:noindex
X-PUBLISHED-TTL:PT1H
BEGIN:VTIMEZONE
TZID:UTC
BEGIN:STANDARD
TZOFFSETFROM:+0000
TZOFFSETTO:+0000
TZNAME:UTC
DTSTART:20220101T000000
END:STANDARD
END:VTIMEZONE
BEGIN:VTIMEZONE
TZID:Europe/Rome
BEGIN:DAYLIGHT
TZOFFSETFROM:+0100
TZOFFSETTO:+0200
TZNAME:CEST
DTSTART:20200329T010000
END:DAYLIGHT
BEGIN:STANDARD
TZOFFSETFROM:+0200
TZOFFSETTO:+0100
TZNAME:CET
DTSTART:20201025T010000
END:STANDARD
BEGIN:DAYLIGHT
TZOFFSETFROM:+0100
TZOFFSETTO:+0200
TZNAME:CEST
DTSTART:20210328T010000
END:DAYLIGHT
BEGIN:STANDARD
TZOFFSETFROM:+0200
TZOFFSETTO:+0100
TZNAME:CET
DTSTART:20211031T010000
END:STANDARD
BEGIN:DAYLIGHT
TZOFFSETFROM:+0100
TZOFFSETTO:+0200
TZNAME:CEST
DTSTART:20220327T010000
END:DAYLIGHT
BEGIN:STANDARD
TZOFFSETFROM:+0200
TZOFFSETTO:+0100
TZNAME:CET
DTSTART:20221030T010000
END:STANDARD
BEGIN:DAYLIGHT
TZOFFSETFROM:+0100
TZOFFSETTO:+0200
TZNAME:CEST
DTSTART:20230326T010000
END:DAYLIGHT
BEGIN:STANDARD
TZOFFSETFROM:+0200
TZOFFSETTO:+0100
TZNAME:CET
DTSTART:20231029T010000
END:STANDARD
END:VTIMEZONE
BEGIN:VEVENT
DTSTART;TZID=UTC:20230831T173000
DTEND;TZID=UTC:20230831T193000
DTSTAMP:20260424T212535
CREATED:20230822T163051Z
LAST-MODIFIED:20230822T163051Z
UID:12170-1693503000-1693510200@treppocarnico.org
SUMMARY:All'Amico De Cillia...
DESCRIPTION:Un appuntamento per conoscere Enrico De Cillia! In occasione dell’anniversario della sua nascita\, giovedì 31 agosto\, presso la Galleria d’Arte Moderna “Enrico De Cillia” di Treppo Ligosullo\, ricerchiamo l’identità di Enrico attraverso i ricordi delle persone che lo hanno conosciuto: durante tutta la giornata\, la visita alle mostre sarà completamente gratuita.\nAlle ore 17.30 avrà luogo un approfondimento anche attraverso l’esposizione di quadri di proprietà privata presenti insieme ai loro prestatori.\n\nINGRESSO LIBERO
URL:https://treppocarnico.org/evento/allamico-de-cillia/
LOCATION:Galleria d’Arte Moderna Enrico De Cillia\, Via Giacomo Matteotti 12\, Treppo Carnico\, Udine\, 33020\, Italia
ATTACH;FMTTYPE=image/jpeg:https://treppocarnico.org/wp-content/uploads/2023/08/amico_decillia.jpg
END:VEVENT
BEGIN:VEVENT
DTSTART;TZID=UTC:20230805T103000
DTEND;TZID=UTC:20230805T120000
DTSTAMP:20260424T212535
CREATED:20230729T080054Z
LAST-MODIFIED:20230729T064919Z
UID:12146-1691231400-1691236800@treppocarnico.org
SUMMARY:Invito all'apertura della Galleria De Cillia
DESCRIPTION:L’Amminstrazione Comunale desidera invitare la popolazione tutta a partecipare alla nuova apertura della Galleria d’Arte Moderna “Enrico De Cillia”. Verranno esposte le nuove funzionalità e le prospettive future per questa nostra importante realtà museale. Per l’occasione e per tutta la giornata\, la visita alle mostre permanenti sarà completamente gratuita. \nAlla fine della cerimonia verrà offerto a tutti i presenti un momento conviviale ed una bicchierata.
URL:https://treppocarnico.org/evento/invito-allapertura-della-galleria-de-cillia/
LOCATION:Galleria d’Arte Moderna Enrico De Cillia\, Via Giacomo Matteotti 12\, Treppo Carnico\, Udine\, 33020\, Italia
CATEGORIES:Presentazione
ATTACH;FMTTYPE=image/jpeg:https://treppocarnico.org/wp-content/uploads/2023/07/decillia.jpg
ORGANIZER;CN="Amministrazione Comunale di Treppo Ligosullo":MAILTO:anagrafe@comune.treppoligosullo.ud.it
END:VEVENT
BEGIN:VEVENT
DTSTART;TZID=Europe/Rome:20220805T204500
DTEND;TZID=Europe/Rome:20220805T223000
DTSTAMP:20260424T212535
CREATED:20220727T161203Z
LAST-MODIFIED:20220708T161650Z
UID:11411-1659732300-1659738600@treppocarnico.org
SUMMARY:Concerto omaggio a Franco Battiato
DESCRIPTION:L’Associazione Culturale Elio Cav. Cortolezzis\, con il patrocinio del Comune di Treppo Ligosullo e Biblioteca comunale\, è lieta di invitarvi al concerto omaggio a Franco Battiato. Francesco Imbriaco con Tamara Mikulic\, Davide Raciti\, Rachele Castellano\, Martina Pilosio e la partecipazione straordinaria del Trio Pakaj & atpx. \nL’evento si svolgerà presso la Piazza cooperazione o caso maltempo in Galleria d’Arte Moderna. \nIngresso con offerta libera regolamentato nel rispetto delle disposizioni di sicurezza anti covid-19.
URL:https://treppocarnico.org/evento/concerto-omaggio-a-franco-battiato/
LOCATION:Piazza della cooperazione\, Via matteotti\, 20\, treppo Carnico\, italy\, 33020\, Italia
CATEGORIES:Concerti
ATTACH;FMTTYPE=image/jpeg:https://treppocarnico.org/wp-content/uploads/2022/07/battiato.jpg
ORGANIZER;CN="Associazione Culturale Elio Cav. Cortolezzis":MAILTO:angela.cortolezzis@live.it
END:VEVENT
BEGIN:VEVENT
DTSTART;TZID=Europe/Rome:20210709T210000
DTEND;TZID=Europe/Rome:20210806T230000
DTSTAMP:20260424T212535
CREATED:20210706T125611Z
LAST-MODIFIED:20210706T125611Z
UID:10608-1625864400-1628290800@treppocarnico.org
SUMMARY:Tal Borc di Zilie a Trep
DESCRIPTION:Musica-Cultura-Spettacolo\nNel ricordare il 70° della nascita della Biblioteca comunale l’Associazione culturale “Elio cav. Cortolezzis” con la collaborazione dell’Accademia Sperimentale Spettacolo della Carnia\, Associazione Teatrale Friulana\, Biblioteca comunale e Comune di Treppo Ligosullo dedica il mese di luglio e agosto a momenti/eventi di musica-cultura-spettacolo nel “Borc di Zilie” in via Giacomo Leopardi ogni venerdì dal 9 luglio al 6 agosto dalle ore 21.00 ed inoltre sono previste due serate speciali dedicate ai bambini il 20 e 27 luglio \nIngresso con offerta libera \nogni venerdì dal 9 luglio al 6 agosto dalle ore 21.00 \n9 luglio – Teatro Fûr Stagjon – G.A.D. Quintino Ronchi \n16 luglio – Music comedy show – Accademia Sperimentale Spettacolo Carnia \n23 luglio – Teatro Tre sull’Altalena – GT della Loggia \n30 luglio – Teatro Altri che Fulminanz – Teatri di Paîs \n6 agosto – Letture e musica – Accademia Sperimentale Spettacolo Carnia \n… e due martedì dedicati ai ragazzi con la proiezione dei film d’animazione \n20 luglio – Red e Toby nemiciamici \n27 luglio – Shrek \nLe serate si svolgeranno nel pieno rispetto delle norme anti-covid e sono garantite anche in caso di maltempo. 
URL:https://treppocarnico.org/evento/tal-borc-di-zilie-a-trep/
LOCATION:Cort di Zilie\, Via Giacomo leopardi\, Treppo Carnico\, UD\, 33020\, Italia
CATEGORIES:Incontri e convegni,Teatro
ATTACH;FMTTYPE=image/jpeg:https://treppocarnico.org/wp-content/uploads/2021/07/zilie.jpg
ORGANIZER;CN="Associazione Culturale Elio Cav. Cortolezzis":MAILTO:angela.cortolezzis@live.it
END:VEVENT
END:VCALENDAR