BEGIN:VCALENDAR
VERSION:2.0
PRODID:-//Treppocarnico.org - ECPv6.15.13//NONSGML v1.0//EN
CALSCALE:GREGORIAN
METHOD:PUBLISH
X-WR-CALNAME:Treppocarnico.org
X-ORIGINAL-URL:https://treppocarnico.org
X-WR-CALDESC:Eventi per Treppocarnico.org
REFRESH-INTERVAL;VALUE=DURATION:PT1H
X-Robots-Tag:noindex
X-PUBLISHED-TTL:PT1H
BEGIN:VTIMEZONE
TZID:Europe/Rome
BEGIN:DAYLIGHT
TZOFFSETFROM:+0100
TZOFFSETTO:+0200
TZNAME:CEST
DTSTART:20170326T010000
END:DAYLIGHT
BEGIN:STANDARD
TZOFFSETFROM:+0200
TZOFFSETTO:+0100
TZNAME:CET
DTSTART:20171029T010000
END:STANDARD
BEGIN:DAYLIGHT
TZOFFSETFROM:+0100
TZOFFSETTO:+0200
TZNAME:CEST
DTSTART:20180325T010000
END:DAYLIGHT
BEGIN:STANDARD
TZOFFSETFROM:+0200
TZOFFSETTO:+0100
TZNAME:CET
DTSTART:20181028T010000
END:STANDARD
BEGIN:DAYLIGHT
TZOFFSETFROM:+0100
TZOFFSETTO:+0200
TZNAME:CEST
DTSTART:20190331T010000
END:DAYLIGHT
BEGIN:STANDARD
TZOFFSETFROM:+0200
TZOFFSETTO:+0100
TZNAME:CET
DTSTART:20191027T010000
END:STANDARD
BEGIN:DAYLIGHT
TZOFFSETFROM:+0100
TZOFFSETTO:+0200
TZNAME:CEST
DTSTART:20200329T010000
END:DAYLIGHT
BEGIN:STANDARD
TZOFFSETFROM:+0200
TZOFFSETTO:+0100
TZNAME:CET
DTSTART:20201025T010000
END:STANDARD
BEGIN:DAYLIGHT
TZOFFSETFROM:+0100
TZOFFSETTO:+0200
TZNAME:CEST
DTSTART:20210328T010000
END:DAYLIGHT
BEGIN:STANDARD
TZOFFSETFROM:+0200
TZOFFSETTO:+0100
TZNAME:CET
DTSTART:20211031T010000
END:STANDARD
BEGIN:DAYLIGHT
TZOFFSETFROM:+0100
TZOFFSETTO:+0200
TZNAME:CEST
DTSTART:20220327T010000
END:DAYLIGHT
BEGIN:STANDARD
TZOFFSETFROM:+0200
TZOFFSETTO:+0100
TZNAME:CET
DTSTART:20221030T010000
END:STANDARD
BEGIN:DAYLIGHT
TZOFFSETFROM:+0100
TZOFFSETTO:+0200
TZNAME:CEST
DTSTART:20230326T010000
END:DAYLIGHT
BEGIN:STANDARD
TZOFFSETFROM:+0200
TZOFFSETTO:+0100
TZNAME:CET
DTSTART:20231029T010000
END:STANDARD
BEGIN:DAYLIGHT
TZOFFSETFROM:+0100
TZOFFSETTO:+0200
TZNAME:CEST
DTSTART:20240331T010000
END:DAYLIGHT
BEGIN:STANDARD
TZOFFSETFROM:+0200
TZOFFSETTO:+0100
TZNAME:CET
DTSTART:20241027T010000
END:STANDARD
BEGIN:DAYLIGHT
TZOFFSETFROM:+0100
TZOFFSETTO:+0200
TZNAME:CEST
DTSTART:20250330T010000
END:DAYLIGHT
BEGIN:STANDARD
TZOFFSETFROM:+0200
TZOFFSETTO:+0100
TZNAME:CET
DTSTART:20251026T010000
END:STANDARD
BEGIN:DAYLIGHT
TZOFFSETFROM:+0100
TZOFFSETTO:+0200
TZNAME:CEST
DTSTART:20260329T010000
END:DAYLIGHT
BEGIN:STANDARD
TZOFFSETFROM:+0200
TZOFFSETTO:+0100
TZNAME:CET
DTSTART:20261025T010000
END:STANDARD
BEGIN:DAYLIGHT
TZOFFSETFROM:+0100
TZOFFSETTO:+0200
TZNAME:CEST
DTSTART:20270328T010000
END:DAYLIGHT
BEGIN:STANDARD
TZOFFSETFROM:+0200
TZOFFSETTO:+0100
TZNAME:CET
DTSTART:20271031T010000
END:STANDARD
END:VTIMEZONE
BEGIN:VTIMEZONE
TZID:UTC
BEGIN:STANDARD
TZOFFSETFROM:+0000
TZOFFSETTO:+0000
TZNAME:UTC
DTSTART:20220101T000000
END:STANDARD
END:VTIMEZONE
BEGIN:VEVENT
DTSTART;TZID=Europe/Rome:20260313T203000
DTEND;TZID=Europe/Rome:20260313T220000
DTSTAMP:20260424T235704
CREATED:20260304T195302Z
LAST-MODIFIED:20260303T202906Z
UID:19926-1773433800-1773439200@treppocarnico.org
SUMMARY:ALICE B BRINGS in concerto
DESCRIPTION:La Grande musica Italiana\nL’Associazione Culturale “Elio cav. Cortolezzis” in collaborazione con il Comune di Treppo Ligosullo è lieta di invitarvi\, Venerdì 13 marzo ore 20.30\, presso la Galleria d’Arte Moderna “Enrico De Cillia” al concerto di Alice B Brings. Applauditissima a X Factor voce grintosa e accattivante\, per un programma di musica italiana con un particolare omaggio alla grandissima Mia Martini con ISMAELE MARANGONI al piano e MAX PASUT al basso.\n\nAlice porta Mia Martini sul palco di X Factor 2023 
URL:https://treppocarnico.org/evento/alice-b-brings-in-concerto/
LOCATION:Galleria d’Arte Moderna Enrico De Cillia\, Via Giacomo Matteotti 12\, Treppo Carnico\, Udine\, 33020\, Italia
CATEGORIES:Concerti
ATTACH;FMTTYPE=image/jpeg:https://treppocarnico.org/wp-content/uploads/2026/03/alice_concerto.jpg
ORGANIZER;CN="Associazione Culturale Elio Cav. Cortolezzis":MAILTO:angela.cortolezzis@live.it
END:VEVENT
BEGIN:VEVENT
DTSTART;TZID=Europe/Rome:20250329T203000
DTEND;TZID=Europe/Rome:20250329T220000
DTSTAMP:20260424T235704
CREATED:20250327T180044Z
LAST-MODIFIED:20250327T171903Z
UID:18303-1743280200-1743285600@treppocarnico.org
SUMMARY:Concerto "RESPECT"
DESCRIPTION:L’Associazione Culturale “Elio cav. Cortolezzis” in collaborazione con il Comune di Treppo Ligosullo è lieta di invitare Sabato 29 marzo 2025 ore 20.30 presso la Galleria d’Arte Moderna “Enrico De Cillia” al concerto RESPECT con l’incredibile interprete vocale NADYNE RUSH\, DARIO DAL MOLIN al piano e MAX PASUT al basso.\n\nIngresso libero
URL:https://treppocarnico.org/evento/concerto-respect/
LOCATION:Galleria d’Arte Moderna Enrico De Cillia\, Via Giacomo Matteotti 12\, Treppo Carnico\, Udine\, 33020\, Italia
CATEGORIES:Concerti
ATTACH;FMTTYPE=image/jpeg:https://treppocarnico.org/wp-content/uploads/2025/03/respect.jpg
ORGANIZER;CN="Associazione Culturale Elio Cav. Cortolezzis":MAILTO:angela.cortolezzis@live.it
END:VEVENT
BEGIN:VEVENT
DTSTART;TZID=Europe/Rome:20241207T200000
DTEND;TZID=Europe/Rome:20241207T213000
DTSTAMP:20260424T235704
CREATED:20241128T141044Z
LAST-MODIFIED:20241128T140453Z
UID:18037-1733601600-1733607000@treppocarnico.org
SUMMARY:Concerto "Uei sci cjante in paîs"
DESCRIPTION:L’Associazione Culturale “Elio Cav. Cortolezzis” è lieta di invitarvi\, sabato 7 dicembre 2024\, al concerto “Uei sci cjante in paîs”. L’evento ad ingresso libero\, si terrà alle ore 20.00 presso la Galleria d’Arte Moderna “Enrico De Cillia”. Potrete assistere all’esibizione dei seguenti cori: \nCoro CORÂL DI TREP dirige m° Paolo Morocutti \nCoro CIVE A.N.A. DI PAULARO dirige m° Marco Clama \nGruppo spontaneo LAS CJANTERINES DE VAL PONTAIBE \nA seguire\, un momento conviviale presso la sala Parrocchiale di Treppo.
URL:https://treppocarnico.org/evento/concerto-uei-sci-cjante-in-pais/
LOCATION:Galleria d’Arte Moderna Enrico De Cillia\, Via Giacomo Matteotti 12\, Treppo Carnico\, Udine\, 33020\, Italia
CATEGORIES:Concerti
ATTACH;FMTTYPE=image/jpeg:https://treppocarnico.org/wp-content/uploads/2024/11/concerto_cori.jpg
ORGANIZER;CN="Associazione Culturale Elio Cav. Cortolezzis":MAILTO:angela.cortolezzis@live.it
END:VEVENT
BEGIN:VEVENT
DTSTART;TZID=Europe/Rome:20240712T204500
DTEND;TZID=Europe/Rome:20240712T214500
DTSTAMP:20260424T235704
CREATED:20240706T063023Z
LAST-MODIFIED:20240706T065238Z
UID:14485-1720817100-1720820700@treppocarnico.org
SUMMARY:Concerto di Gigi Maieron "Musica e Parole"
DESCRIPTION:L’Associazione Culturale “Elio Cav Cortolezzis” vi invita a partecipare ad uno straordinario spettacolo musicale. Nella piazzetta antistante alla bibliotaca comunale si esibirà il cantautore Luigi Maieron\, prenderà spunto dal suo primo libro uscito vent’anni fa “La neve di Anna” per offrire al pubblico un intensa serata di musica e parole. \nL’evento si svolgerà anche in caso di maltempo\, presso la Galleria d’Arte Moderna “Enrico De Cillia”. \nIngresso con offerta libera
URL:https://treppocarnico.org/evento/concerto-di-gigi-maieron/
LOCATION:Biblioteca comunale\, Via Giacomo matteotti n°9\, Treppo Carnico\, UD\, 33014\, Italia
CATEGORIES:Concerti
ATTACH;FMTTYPE=image/jpeg:https://treppocarnico.org/wp-content/uploads/2024/07/maieron.jpg
ORGANIZER;CN="Associazione Culturale Elio Cav. Cortolezzis":MAILTO:angela.cortolezzis@live.it
END:VEVENT
BEGIN:VEVENT
DTSTART;TZID=Europe/Rome:20240602T180000
DTEND;TZID=Europe/Rome:20240602T193000
DTSTAMP:20260424T235704
CREATED:20240518T082457Z
LAST-MODIFIED:20240515T173608Z
UID:14093-1717351200-1717356600@treppocarnico.org
SUMMARY:Evento "Dal segno al suono"
DESCRIPTION:Domenica 2 giugno\, presso la Galleria d’Arte Moderna “E. De Cillia” di Treppo Ligosullo\, terminerà “Voltarsi indietro”\, la mostra dedicata a una delle figure di spicco del panorama culturale della nostra regione: Giuseppe Zigaina. Nell’occasione\, con inizio alle ore 18.00 si terrà un evento con parole e musica dal titolo “Dal segno al suono”\, un percorso narrato e suonato alla chitarra acustica da parte della chitarrista friulana Paola Selva.\nIngresso libero fino alla capienza massima consentita.
URL:https://treppocarnico.org/evento/evento-dal-segno-al-suono/
LOCATION:Galleria d’Arte Moderna Enrico De Cillia\, Via Giacomo Matteotti 12\, Treppo Carnico\, Udine\, 33020\, Italia
CATEGORIES:Concerti
ATTACH;FMTTYPE=image/jpeg:https://treppocarnico.org/wp-content/uploads/2024/05/selva.jpg
END:VEVENT
BEGIN:VEVENT
DTSTART;TZID=Europe/Rome:20231216T170000
DTEND;TZID=Europe/Rome:20231216T190000
DTSTAMP:20260424T235704
CREATED:20231206T093136Z
LAST-MODIFIED:20231206T091339Z
UID:12571-1702746000-1702753200@treppocarnico.org
SUMMARY:Edoardo De Angelis in concerto
DESCRIPTION:DA LELLA A NON AMMAZZATE ANNA: UN RECITAL DEDICATO A TUTTE LE DONNE A CUI NON SIAMO MAI SUFFICIENTEMENTE RICONOSCENTI\nL’Amministrazione Comunale è lieta di invitarvi al concerto di Edoardo De Angelis che si terrà presso la Galleria d’Arte Moderna Enrico De Cillia sabato 16 dicembre alle ore 17:00. Un recital che\, come dice il titolo stesso\, è dedicato a tutte le donne e che pone al centro di tutto il problema della violenza di genere. L’evento è realizzato con il contributo della Regione Autonoma Friuli Venezia Giulia Direzione centrale lavoro\, formazione\, istruzione e famiglia. \nNell’ambito delle iniziative promosse dal Comune di Treppo Ligosullo in collaborazione con Voce Donna ETS e l’Associazione Culturale CulturArti per la Giornata internazionale per l’eliminazione della violenza contro le donne\, Edoardo De Angelis – uno dei nomi più significativi della canzone d’autore italiana – propone il suo concerto “Anna ha visto la luna”: le voci della canzone d’autore\, della letteratura\, della poesia\, raccolte insieme come un cestino di fiori a significare l’impegno quotidiano contro la violenza di genere. Una presa di posizione personale e civile per sensibilizzare anime e coscienze riguardo al disagio sociale della violenza contro le donne.\nIn questo concerto “arricchito” risalta il segno più evidente e dichiarato dell’impegno civile e sociale dell’autore: canzoni aperte allo slancio sentimentale\, ma lontane dal vicolo cieco della retorica; canzoni che si stringono una all’altra\, come fiori pronti all’offerta. Canzoni e voci diverse tra loro\, ma legate assieme dalla volontà di porgere un ringraziamento sincero\, dal profondo del cuore\, a tutte le donne del mondo\, per la loro preziosa\, insostituibile presenza.\nIngresso libero e gratuito fino a esaurimento dei posti disponibili
URL:https://treppocarnico.org/evento/edoardo-de-angelis-in-concerto/
LOCATION:Galleria d’Arte Moderna Enrico De Cillia\, Via Giacomo Matteotti 12\, Treppo Carnico\, Udine\, 33020\, Italia
CATEGORIES:Concerti
ATTACH;FMTTYPE=image/jpeg:https://treppocarnico.org/wp-content/uploads/2023/11/deangelis.jpg
END:VEVENT
BEGIN:VEVENT
DTSTART;TZID=UTC:20230721T204500
DTEND;TZID=UTC:20230721T220000
DTSTAMP:20260424T235704
CREATED:20230715T114216Z
LAST-MODIFIED:20230715T114216Z
UID:12113-1689972300-1689976800@treppocarnico.org
SUMMARY:La Big Band in concerto a Treppo
DESCRIPTION:L’Associazione Culturale Elio Cav. Cortolezzis è lieta di invitarvi al concerto della BIG BAND “società dei musicisti entusiasti”. L’evento si svolgerà nella piazza antistante la biblioteca comunale ed accoglierà l’entusiasmo di questo fantastico gruppo musicale. Un occasione da non perdere per una serata davvero speciale. \n(In caso di mal tempo l’evento si svolgerà presso la Galleria D’arte Enrico De Cillia)
URL:https://treppocarnico.org/evento/la-big-band-in-concerto-a-treppo/
LOCATION:Biblioteca comunale\, Via Giacomo matteotti n°9\, Treppo Carnico\, UD\, 33014\, Italia
CATEGORIES:Concerti
ATTACH;FMTTYPE=image/jpeg:https://treppocarnico.org/wp-content/uploads/2015/06/bigband.jpg
ORGANIZER;CN="Associazione Culturale Elio Cav. Cortolezzis":MAILTO:angela.cortolezzis@live.it
END:VEVENT
BEGIN:VEVENT
DTSTART;TZID=Europe/Rome:20181018T203000
DTEND;TZID=Europe/Rome:20181018T223000
DTSTAMP:20260424T235704
CREATED:20181005T134332Z
LAST-MODIFIED:20181005T134332Z
UID:8019-1539894600-1539901800@treppocarnico.org
SUMMARY:Povia in Concerto Acustico
DESCRIPTION:La Parrocchia di San Daniele Profeta di Paluzza e l’Associazione Culturale “Elio cav. Cortolezzis” di Treppo Ligosullo vi invitano Giovedì 18 ottobre 2018 alle ore 20.30 al concerto acustico con Povia presso il Cinema Teatro Daniel di Paluzza.\n\nI biglietti saranno disponibili fino ad esaurimento posti (200) dalle ore 17.00 presso il teatro.\nPer informazioni:\n348 0695500\n377 2905666\n\nIngresso libero (offerta libera per le attività parrocchiali teatrali)
URL:https://treppocarnico.org/evento/povia-in-concerto-acustico/
LOCATION:Cinema Daniel\, Via Pal Piccolo\, Paluzza\, Udine\, 33026\, Italia
CATEGORIES:Concerti
ATTACH;FMTTYPE=image/jpeg:https://treppocarnico.org/wp-content/uploads/2018/10/povia_concerto.jpg
ORGANIZER;CN="Associazione Culturale Elio Cav. Cortolezzis":MAILTO:angela.cortolezzis@live.it
END:VEVENT
END:VCALENDAR