BEGIN:VCALENDAR
VERSION:2.0
PRODID:-//Treppocarnico.org - ECPv6.15.13//NONSGML v1.0//EN
CALSCALE:GREGORIAN
METHOD:PUBLISH
X-ORIGINAL-URL:https://treppocarnico.org
X-WR-CALDESC:Eventi per Treppocarnico.org
REFRESH-INTERVAL;VALUE=DURATION:PT1H
X-Robots-Tag:noindex
X-PUBLISHED-TTL:PT1H
BEGIN:VTIMEZONE
TZID:Europe/Rome
BEGIN:DAYLIGHT
TZOFFSETFROM:+0100
TZOFFSETTO:+0200
TZNAME:CEST
DTSTART:20180325T010000
END:DAYLIGHT
BEGIN:STANDARD
TZOFFSETFROM:+0200
TZOFFSETTO:+0100
TZNAME:CET
DTSTART:20181028T010000
END:STANDARD
BEGIN:DAYLIGHT
TZOFFSETFROM:+0100
TZOFFSETTO:+0200
TZNAME:CEST
DTSTART:20190331T010000
END:DAYLIGHT
BEGIN:STANDARD
TZOFFSETFROM:+0200
TZOFFSETTO:+0100
TZNAME:CET
DTSTART:20191027T010000
END:STANDARD
BEGIN:DAYLIGHT
TZOFFSETFROM:+0100
TZOFFSETTO:+0200
TZNAME:CEST
DTSTART:20200329T010000
END:DAYLIGHT
BEGIN:STANDARD
TZOFFSETFROM:+0200
TZOFFSETTO:+0100
TZNAME:CET
DTSTART:20201025T010000
END:STANDARD
END:VTIMEZONE
BEGIN:VEVENT
DTSTART;TZID=Europe/Rome:20191226T203000
DTEND;TZID=Europe/Rome:20191226T223000
DTSTAMP:20260425T052049
CREATED:20191214T121608Z
LAST-MODIFIED:20191214T121608Z
UID:8788-1577392200-1577399400@treppocarnico.org
SUMMARY:Music Comedy Show
DESCRIPTION:Aspettando Capodanno\, l’Associazione culturale “Elio cav. Cortolezzis” propone giovedì 26 dicembre Music Comedy Show\, una serata di cabaret dove lo spettacolo combina in un tutt’uno con teatro\, canzone\, commedia e danza grazie agli artisti in scena\, Rose\, Marius e Alex. Un modo giocoso di trascorrere le ultime ore di Santo Stefano in canonica a Treppo dalle ore 20.30. \nL’ingresso sarà libero\, con offerta a piacere.
URL:https://treppocarnico.org/evento/music-comedy-show/
LOCATION:Sala Parrocchiale di Treppo Carnico\, Via Don Virginio Foschiani 1\, Treppo Carnico\, UDINE\, 33020\, Italia
CATEGORIES:Teatro
ATTACH;FMTTYPE=image/jpeg:https://treppocarnico.org/wp-content/uploads/2019/12/comedy_show.jpg
ORGANIZER;CN="Associazione Culturale Elio Cav. Cortolezzis":MAILTO:angela.cortolezzis@live.it
END:VEVENT
END:VCALENDAR