BEGIN:VCALENDAR
VERSION:2.0
PRODID:-//Treppocarnico.org - ECPv6.15.13//NONSGML v1.0//EN
CALSCALE:GREGORIAN
METHOD:PUBLISH
X-ORIGINAL-URL:https://treppocarnico.org
X-WR-CALDESC:Eventi per Treppocarnico.org
REFRESH-INTERVAL;VALUE=DURATION:PT1H
X-Robots-Tag:noindex
X-PUBLISHED-TTL:PT1H
BEGIN:VTIMEZONE
TZID:UTC
BEGIN:STANDARD
TZOFFSETFROM:+0000
TZOFFSETTO:+0000
TZNAME:UTC
DTSTART:20220101T000000
END:STANDARD
END:VTIMEZONE
BEGIN:VEVENT
DTSTART;TZID=UTC:20230805T170000
DTEND;TZID=UTC:20230805T183000
DTSTAMP:20260424T230710
CREATED:20230731T051500Z
LAST-MODIFIED:20230731T051500Z
UID:12159-1691254800-1691260200@treppocarnico.org
SUMMARY:Presentazione del libro "Visti da dietro le Quinte"
DESCRIPTION:L’Associazione culturale “Elio cav. Cortolezzis” è lieta di invitare sabato 5 agosto alle ore 17.00 in Galleria d’Arte Moderna “Enrico De Cillia” alla presentazione del libro edito da Falzea dal titolo “Visti da dietro le Quinte” scritto da Claudio Calandra. Oltre all’Autore saranno presenti gli illustri relatori: prof. Mario Turello (saggista – critico letterario) e il prof. Guglielmo Cevolin (Università di Udine – Presidente di Historia).\n\nClaudio Calandra presenta una serie di personaggi del mondo medico-scientifico\, della politica\, della cultura\, dello spettacolo e dello sport che ha avuto l’occasione e l’opportunità d’incontrare nel corso della sua quarantennale attività lavorativa.\nPersonaggi famosi\, spesso anche di notevole rilevanza sociale\, così da risultare sulla carta di difficile approccio e di impegnativo rapporto\, ma che affrontati dall’Autore “dietro le quinte” si sono liberati dai loro rigori comportamentali\, degli stereotipi sociali e si sono profusi in parole e gesti di viva cordialità – in piena empatia con il proprio interlocutore – dando vita a momenti ed episodi meritevoli di essere raccontati.\n\nI loro nomi sono riportati in ordine alfabetico\, in quarta di copertina\, ricordati tutti con gratitudine e simpatia\, spesso con commozione: Pupi Avati\, Josephine Baker\, Angie R. Brooks\, Novella Cantarutti\, Maurizio Costanzo\, Maurizio Damilano\, Manuela di Centa\, Margaret d’Inghilterra\, Pietro E. di Prampero\, Dwight D. Eisenhower\, Peter Gale\, Severino Gazzelloni\, Bruno Lauzi\, Milva\, Ferruccio Miraglia\, Romano Mussolini\, Venanzio Ortis\, Gianfranco Paglia\, Rodolfo Paoletti\, Elio Papponetti\, Giuseppe Pontiggia\, Hans Popper\, Albert Sabin\, Alessandro Seganti\, Sara Simeoni\, Giuseppe Titti\, Nikolai Tolstoj\, David Maria Turoldo\, Ornella Vanoni\, Umberto Villani.
URL:https://treppocarnico.org/evento/presentazione-del-libro-visti-da-dietro-le-quinte/
LOCATION:Galleria d’Arte Moderna Enrico De Cillia\, Via Giacomo Matteotti 12\, Treppo Carnico\, Udine\, 33020\, Italia
CATEGORIES:Presentazione
ATTACH;FMTTYPE=image/jpeg:https://treppocarnico.org/wp-content/uploads/2023/07/dietrolequinte.jpg
ORGANIZER;CN="Associazione Culturale Elio Cav. Cortolezzis":MAILTO:angela.cortolezzis@live.it
END:VEVENT
END:VCALENDAR