BEGIN:VCALENDAR
VERSION:2.0
PRODID:-//Treppocarnico.org - ECPv6.15.13//NONSGML v1.0//EN
CALSCALE:GREGORIAN
METHOD:PUBLISH
X-ORIGINAL-URL:https://treppocarnico.org
X-WR-CALDESC:Eventi per Treppocarnico.org
REFRESH-INTERVAL;VALUE=DURATION:PT1H
X-Robots-Tag:noindex
X-PUBLISHED-TTL:PT1H
BEGIN:VTIMEZONE
TZID:Europe/Rome
BEGIN:DAYLIGHT
TZOFFSETFROM:+0100
TZOFFSETTO:+0200
TZNAME:CEST
DTSTART:20150329T010000
END:DAYLIGHT
BEGIN:STANDARD
TZOFFSETFROM:+0200
TZOFFSETTO:+0100
TZNAME:CET
DTSTART:20151025T010000
END:STANDARD
BEGIN:DAYLIGHT
TZOFFSETFROM:+0100
TZOFFSETTO:+0200
TZNAME:CEST
DTSTART:20160327T010000
END:DAYLIGHT
BEGIN:STANDARD
TZOFFSETFROM:+0200
TZOFFSETTO:+0100
TZNAME:CET
DTSTART:20161030T010000
END:STANDARD
BEGIN:DAYLIGHT
TZOFFSETFROM:+0100
TZOFFSETTO:+0200
TZNAME:CEST
DTSTART:20170326T010000
END:DAYLIGHT
BEGIN:STANDARD
TZOFFSETFROM:+0200
TZOFFSETTO:+0100
TZNAME:CET
DTSTART:20171029T010000
END:STANDARD
BEGIN:DAYLIGHT
TZOFFSETFROM:+0100
TZOFFSETTO:+0200
TZNAME:CEST
DTSTART:20180325T010000
END:DAYLIGHT
BEGIN:STANDARD
TZOFFSETFROM:+0200
TZOFFSETTO:+0100
TZNAME:CET
DTSTART:20181028T010000
END:STANDARD
BEGIN:DAYLIGHT
TZOFFSETFROM:+0100
TZOFFSETTO:+0200
TZNAME:CEST
DTSTART:20190331T010000
END:DAYLIGHT
BEGIN:STANDARD
TZOFFSETFROM:+0200
TZOFFSETTO:+0100
TZNAME:CET
DTSTART:20191027T010000
END:STANDARD
BEGIN:DAYLIGHT
TZOFFSETFROM:+0100
TZOFFSETTO:+0200
TZNAME:CEST
DTSTART:20200329T010000
END:DAYLIGHT
BEGIN:STANDARD
TZOFFSETFROM:+0200
TZOFFSETTO:+0100
TZNAME:CET
DTSTART:20201025T010000
END:STANDARD
BEGIN:DAYLIGHT
TZOFFSETFROM:+0100
TZOFFSETTO:+0200
TZNAME:CEST
DTSTART:20210328T010000
END:DAYLIGHT
BEGIN:STANDARD
TZOFFSETFROM:+0200
TZOFFSETTO:+0100
TZNAME:CET
DTSTART:20211031T010000
END:STANDARD
BEGIN:DAYLIGHT
TZOFFSETFROM:+0100
TZOFFSETTO:+0200
TZNAME:CEST
DTSTART:20220327T010000
END:DAYLIGHT
BEGIN:STANDARD
TZOFFSETFROM:+0200
TZOFFSETTO:+0100
TZNAME:CET
DTSTART:20221030T010000
END:STANDARD
BEGIN:DAYLIGHT
TZOFFSETFROM:+0100
TZOFFSETTO:+0200
TZNAME:CEST
DTSTART:20230326T010000
END:DAYLIGHT
BEGIN:STANDARD
TZOFFSETFROM:+0200
TZOFFSETTO:+0100
TZNAME:CET
DTSTART:20231029T010000
END:STANDARD
BEGIN:DAYLIGHT
TZOFFSETFROM:+0100
TZOFFSETTO:+0200
TZNAME:CEST
DTSTART:20240331T010000
END:DAYLIGHT
BEGIN:STANDARD
TZOFFSETFROM:+0200
TZOFFSETTO:+0100
TZNAME:CET
DTSTART:20241027T010000
END:STANDARD
BEGIN:DAYLIGHT
TZOFFSETFROM:+0100
TZOFFSETTO:+0200
TZNAME:CEST
DTSTART:20250330T010000
END:DAYLIGHT
BEGIN:STANDARD
TZOFFSETFROM:+0200
TZOFFSETTO:+0100
TZNAME:CET
DTSTART:20251026T010000
END:STANDARD
END:VTIMEZONE
BEGIN:VEVENT
DTSTART;TZID=Europe/Rome:20240803T180000
DTEND;TZID=Europe/Rome:20240811T180000
DTSTAMP:20260421T090033
CREATED:20240725T072228Z
LAST-MODIFIED:20240725T072814Z
UID:14990-1722708000-1723399200@treppocarnico.org
SUMMARY:Mostra  CONTREPPORANEA: Distopittura
DESCRIPTION:Sabato 3 agosto alle ore 18.00 si terrà l’inaugurazione di una mostra pittorica nelle due sale laterali del piano terra della galleria d’Arte Moderna “Enrico De Cillia”. Un duo di artisti: Alvise Bon ed Eugenio Azzola\, presenteranno le loro opere che rimarranno esposte in mostra sino a domenica 11 agosto. Dall’astratto al figurativo concettuale\, passando attraverso il materico\, sfociando nella pittura distopica\, nasce la mostra DISTOPITTURA. \nA corollario dell’inaugurazione ci sarà un intrattenimento musicale da parte della “Jimi Barbiani and his Acoustic Friends” che darà una particolare connotazione ed originalità a tutto l’evento. \nLa mostra è organizzata e curata dal comune di Treppo Ligosullo. \n  \n 
URL:https://treppocarnico.org/evento/mostra-contrepporanea-distopittura/
LOCATION:Galleria d’Arte Moderna Enrico De Cillia\, Via Giacomo Matteotti 12\, Treppo Carnico\, Udine\, 33020\, Italia
CATEGORIES:Mostre
ATTACH;FMTTYPE=image/jpeg:https://treppocarnico.org/wp-content/uploads/2024/07/distopittura.jpg
END:VEVENT
BEGIN:VEVENT
DTSTART;TZID=Europe/Rome:20240518T150000
DTEND;TZID=Europe/Rome:20240616T180000
DTSTAMP:20260421T090033
CREATED:20240505T134705Z
LAST-MODIFIED:20240505T073153Z
UID:13999-1716044400-1718560800@treppocarnico.org
SUMMARY:Mostra "Girando il Friuli con Gian il Camponese"
DESCRIPTION:Giancarlo Corrado il “pittore delle cose antiche” vi invita a visitare la sua rassegna artistica\, tra castelli friulani\, costumi e mestieri di un tempo oramai passato. L’inaugurazione della mostra di pittura “Girando il Friuli con Gian il Camponese” avverrà durante l’evento “Piccola patria ed Emigrazione”. E’ promossa dall’ Ente Friuli nel Mondo e sarà visitabile dal 18 maggio al 16 giugno 2024\, sabati e domeniche\, dalle ore 15.00 alle ore 18.00 presso la Galleria d’Arte Moderna “Enrico De Cillia”.
URL:https://treppocarnico.org/evento/mostra-girando-il-friuli-con-gian-il-camponese/
LOCATION:Galleria d’Arte Moderna Enrico De Cillia\, Via Giacomo Matteotti 12\, Treppo Carnico\, Udine\, 33020\, Italia
CATEGORIES:Mostre
ATTACH;FMTTYPE=image/jpeg:https://treppocarnico.org/wp-content/uploads/2024/04/camponese.jpg
END:VEVENT
BEGIN:VEVENT
DTSTART;TZID=Europe/Rome:20240406T110000
DTEND;TZID=Europe/Rome:20240602T180000
DTSTAMP:20260421T090033
CREATED:20240321T124228Z
LAST-MODIFIED:20240426T195613Z
UID:13829-1712401200-1717351200@treppocarnico.org
SUMMARY:Mostra "ZIGAINA: voltarsi indietro"
DESCRIPTION:L’Amministrazione Comunale di Treppo Ligosullo è lieta di invitarvi sabato 6 aprile 2024\, all’inaugurazione della mostra pittorica “ZIGAINA:VOLTARSI INDIETRO” dedicata appunto al Maestro Giuseppe Zigaina. Questa mostra si inserisce nel progetto “Zigaina 100/Anatomia di una immagine”\, che vede la collaborazione tra la Regione Fiuli Venezia Giulia\, l’Ente regionale patrimonio culturale Fvg (ErPacFvg) ed il Comune di Cervignano. Da marzo a dicembre 2024 in tutta la regione\, un ricco cartellone di mostre\, conferenze\, dibattiti e incontri\, organizzati in occasione dei cent’anni dalla nascita dell’Artista.\nTali iniziative si terranno a Cervignano del Friuli\, Treppo Ligosullo\, Trieste\, Udine\, Roma e Gradisca d’Isonzo. Un’occasione unica per ammirare alla Galleria De Cillia\, le 26 opere (alcune delle quali mai esposte in pubblico) che il curatore della mostra\, il Maestro Sergio Colussa\, ha selezionato per questo importante appuntamento. La mostra sarà visitabile dal 6 aprile al 2 giugno 2024\, sabati e domeniche\, dalle ore 15.00 alle ore 18.00.
URL:https://treppocarnico.org/evento/inaugurazione-mostra-zigaina-voltarsi-indietro/
LOCATION:Galleria d’Arte Moderna Enrico De Cillia\, Via Giacomo Matteotti 12\, Treppo Carnico\, Udine\, 33020\, Italia
CATEGORIES:Mostre
ATTACH;FMTTYPE=image/jpeg:https://treppocarnico.org/wp-content/uploads/2024/03/invito_zigaina.jpg
END:VEVENT
BEGIN:VEVENT
DTSTART;TZID=Europe/Rome:20161223T160000
DTEND;TZID=Europe/Rome:20170129T180000
DTSTAMP:20260421T090033
CREATED:20161211T184846Z
LAST-MODIFIED:20161211T130717Z
UID:6646-1482508800-1485712800@treppocarnico.org
SUMMARY:Mostra Cesare Mocchiutti
DESCRIPTION:ANTOLOGICA DI CESARE MOCCHIUTTI\nPresso la Galleria d’Arte Moderna “E. De Cillia” di Treppo carnico verrà allestita una mostra antologica su Cesare Mocchiutti. La mostra sarà aperta al pubblico per tutto il periodo delle Festività Natalizie secondo il seguente orario: \nORARI MOSTRA: \nDal 23 dicembre all’8 gennaio 2017: da martedì a sabato ore 16.00-18.00 domenica e festivi: ore 10.00-12.00/16.00-18.00 \nDal 9 gennaio al 29 gennaio 2017: sabato ore 16.00-18.00 domenica: ore 10.00-12.00/16.00-18.00 \nLa mostra rimarrà aperta fino al 29 gennaio 2017. \n 
URL:https://treppocarnico.org/evento/6646/
LOCATION:Galleria d’Arte Moderna Enrico De Cillia\, Via Giacomo Matteotti 12\, Treppo Carnico\, Udine\, 33020\, Italia
CATEGORIES:Mostre
ATTACH;FMTTYPE=image/jpeg:https://treppocarnico.org/wp-content/uploads/2016/12/mocchiutti.jpg
END:VEVENT
END:VCALENDAR