BEGIN:VCALENDAR
VERSION:2.0
PRODID:-//Treppocarnico.org - ECPv6.15.13//NONSGML v1.0//EN
CALSCALE:GREGORIAN
METHOD:PUBLISH
X-ORIGINAL-URL:https://treppocarnico.org
X-WR-CALDESC:Eventi per Treppocarnico.org
REFRESH-INTERVAL;VALUE=DURATION:PT1H
X-Robots-Tag:noindex
X-PUBLISHED-TTL:PT1H
BEGIN:VTIMEZONE
TZID:Europe/Rome
BEGIN:DAYLIGHT
TZOFFSETFROM:+0100
TZOFFSETTO:+0200
TZNAME:CEST
DTSTART:20140330T010000
END:DAYLIGHT
BEGIN:STANDARD
TZOFFSETFROM:+0200
TZOFFSETTO:+0100
TZNAME:CET
DTSTART:20141026T010000
END:STANDARD
BEGIN:DAYLIGHT
TZOFFSETFROM:+0100
TZOFFSETTO:+0200
TZNAME:CEST
DTSTART:20150329T010000
END:DAYLIGHT
BEGIN:STANDARD
TZOFFSETFROM:+0200
TZOFFSETTO:+0100
TZNAME:CET
DTSTART:20151025T010000
END:STANDARD
BEGIN:DAYLIGHT
TZOFFSETFROM:+0100
TZOFFSETTO:+0200
TZNAME:CEST
DTSTART:20160327T010000
END:DAYLIGHT
BEGIN:STANDARD
TZOFFSETFROM:+0200
TZOFFSETTO:+0100
TZNAME:CET
DTSTART:20161030T010000
END:STANDARD
BEGIN:DAYLIGHT
TZOFFSETFROM:+0100
TZOFFSETTO:+0200
TZNAME:CEST
DTSTART:20170326T010000
END:DAYLIGHT
BEGIN:STANDARD
TZOFFSETFROM:+0200
TZOFFSETTO:+0100
TZNAME:CET
DTSTART:20171029T010000
END:STANDARD
END:VTIMEZONE
BEGIN:VEVENT
DTSTART;TZID=Europe/Rome:20160807T090000
DTEND;TZID=Europe/Rome:20160807T180000
DTSTAMP:20260424T104543
CREATED:20160802T104405Z
LAST-MODIFIED:20160731T125525Z
UID:6356-1470560400-1470592800@treppocarnico.org
SUMMARY:Mercatino a Treppo Carnico
DESCRIPTION:In occasione della festa della Madonna Addolorata\, la Parrocchia ed il centro estivo “Teuts” organizzano un mercatino nel piazzale antistante la Canonica. Il mercatino sarà aperto dalle 9.00 alle ore 18.00 e le offerte verranno utilizzate per ridipingere alcune sale della Canonica. Saranno esposti prodotti artigianali  realizzati a mano e oggettistica di qualsiasi genere: abbigliamento e accessori\, bigiotteria\, decorazioni di ogni tipo. \nVi aspettiamo numerosi!!!
URL:https://treppocarnico.org/evento/mercatino-treppo-carnico/
LOCATION:Piazza della Canonica\, Via 4 novembre 2\, Treppo Carnico\, Udine\, 33020\, Italia
CATEGORIES:Incontri e convegni
ATTACH;FMTTYPE=image/jpeg:https://treppocarnico.org/wp-content/uploads/2016/07/mercatino_estate_2016jpg.jpg
END:VEVENT
BEGIN:VEVENT
DTSTART;TZID=Europe/Rome:20160626T110000
DTEND;TZID=Europe/Rome:20160626T180000
DTSTAMP:20260424T104543
CREATED:20160607T130704Z
LAST-MODIFIED:20160604T132705Z
UID:6197-1466938800-1466964000@treppocarnico.org
SUMMARY:Fieste di San Scimon 2016
DESCRIPTION:L’ACDS di Treppo Carnico in collaborazione con il gruppo Alpini e la Corale di Treppo Carnico\, organizzano per la giornata di domenica 26 giugno 2016 la tradizionale “Fieste di San Scimon” in località “Plan dai Baraz”. Per coloro che fossero impossibilitati a salire a piedi\, l’organizzazione garantisce il trasporto previa richiesta fatta qualche giorno prima a Miuri Del Bon: 333-4218222 \nPROGRAMMA: \n\nOre 11.00 Santa Messa accompagnata dalla corale di Treppo\nOre 13.00 Pranzo con il tradizionale rancio alpino\n\nIn caso di pioggia l’evento verrà rinviato a domenica 3 luglio 2016
URL:https://treppocarnico.org/evento/fieste-san-scimon-2016/
LOCATION:Plan dai Baraz\, via roma\, 23\, treppo carnico\, italy\, 33020\, Italia
CATEGORIES:Incontri e convegni
ATTACH;FMTTYPE=image/jpeg:https://treppocarnico.org/wp-content/uploads/2016/06/baratz_2016.jpg
END:VEVENT
BEGIN:VEVENT
DTSTART;TZID=Europe/Rome:20160611T090000
DTEND;TZID=Europe/Rome:20160611T130000
DTSTAMP:20260424T104543
CREATED:20160604T135049Z
LAST-MODIFIED:20160604T135333Z
UID:6200-1465635600-1465650000@treppocarnico.org
SUMMARY:Giornata del dono del sangue
DESCRIPTION:Sabato 11 giugno 2016 ospiteremo in paese l’autoemoteca in occasione della tradizionale giornata dedicata al dono di plasma e sangue. Invitiamo caldamente tutti i nostri donatori a parteciparvi. E’ richiesto soprattutto un numero maggiore di donazioni di plasma. Vi aspettiamo! \nIL PRESIDENTE\nDel Bon Miuri
URL:https://treppocarnico.org/evento/giornata-del-dono-del-sangue/
LOCATION:Piazza della cooperazione\, Via matteotti\, 20\, treppo Carnico\, italy\, 33020\, Italia
CATEGORIES:Incontri e convegni
ATTACH;FMTTYPE=image/jpeg:https://treppocarnico.org/wp-content/uploads/2016/06/autoemoteca2.jpg
END:VEVENT
BEGIN:VEVENT
DTSTART;TZID=Europe/Rome:20160306T100000
DTEND;TZID=Europe/Rome:20160306T120000
DTSTAMP:20260424T104543
CREATED:20160302T170632Z
LAST-MODIFIED:20160302T193553Z
UID:5832-1457258400-1457265600@treppocarnico.org
SUMMARY:Nuova ProLoco informa
DESCRIPTION:ASSEMBLEA SOCI NUOVA PROLOCO\nRiportiamo una segnalazione da parte della Nuova Proloco di Treppo Carnico. Il giorno domenica 6 marzo 2016 alle ore 10.00 presso l’albergo Cristofoli è indetta l’assemblea ordinaria durante la quale tutti i soci sono invitati a partecipare.
URL:https://treppocarnico.org/evento/5832/
LOCATION:Albergo Cristofoli\, Treppo Carnico\, Udine\, 33020\, Italia
CATEGORIES:Incontri e convegni
ATTACH;FMTTYPE=image/jpeg:https://treppocarnico.org/wp-content/uploads/2015/05/proloco2.jpg
END:VEVENT
BEGIN:VEVENT
DTSTART;TZID=Europe/Rome:20160212T170000
DTEND;TZID=Europe/Rome:20160212T190000
DTSTAMP:20260424T104543
CREATED:20160207T075237Z
LAST-MODIFIED:20160207T153701Z
UID:5682-1455296400-1455303600@treppocarnico.org
SUMMARY:Nuova apertura biblioteca comunale
DESCRIPTION:L’Associazione Culturale Elio cav. Cortolezzis invita la popolazione tutta all’apertura della nuova biblioteca comunale. Un momento conviviale per sentire le proposte che ha in serbo per voi in questi nuovi spazi. Vi aspettiamo numerosi.
URL:https://treppocarnico.org/evento/nuova-apertura-della-biblioteca/
LOCATION:Biblioteca comunale\, Via Giacomo matteotti n°9\, Treppo Carnico\, UD\, 33014\, Italia
CATEGORIES:Incontri e convegni
ATTACH;FMTTYPE=image/jpeg:https://treppocarnico.org/wp-content/uploads/2016/02/biblioteca_evento.jpg
ORGANIZER;CN="Associazione Culturale Elio Cav. Cortolezzis":MAILTO:angela.cortolezzis@live.it
END:VEVENT
BEGIN:VEVENT
DTSTART;TZID=Europe/Rome:20160123T150000
DTEND;TZID=Europe/Rome:20160123T180000
DTSTAMP:20260424T104543
CREATED:20160114T210158Z
LAST-MODIFIED:20160114T210158Z
UID:5632-1453561200-1453572000@treppocarnico.org
SUMMARY:Carnevale a Treppo Carnico
DESCRIPTION:Carnevale a Treppo Carnico\nSabato 23 gennaio 2016\, vi aspettiamo numerosi presso la sala polifunzionale in via G. Leopardi assieme ai simpaticissimi Amici di Gaia Eventi animation. Alle ore 15.00 inizieremo il corteo mascherato lungo le vie del nostro paese (tempo permettendo). Alle ore 16.00 intrattenimento per per piccoli e grandi con l’animazione a 360°. \nSeguirà la premiazione per la mascherina più graziosa\, la più divertente\, la più spaventosa e più piccina…\nPassaparola!
URL:https://treppocarnico.org/evento/carnevale-a-treppo-carnico/
LOCATION:Sala Polifunzionale\, via G. Leopardi\, Treppo Carnico\, 33020
CATEGORIES:Incontri e convegni
ATTACH;FMTTYPE=image/jpeg:https://treppocarnico.org/wp-content/uploads/2016/01/carnevale_2015.jpg
ORGANIZER;CN="Associazione Culturale Elio Cav. Cortolezzis":MAILTO:angela.cortolezzis@live.it
END:VEVENT
BEGIN:VEVENT
DTSTART;TZID=Europe/Rome:20151208T090000
DTEND;TZID=Europe/Rome:20151208T180000
DTSTAMP:20260424T104543
CREATED:20151201T205115Z
LAST-MODIFIED:20151201T213927Z
UID:5451-1449565200-1449597600@treppocarnico.org
SUMMARY:Mercatino di Natale 2015
DESCRIPTION:Mercatino di Natale\nMartedì 8 dicembre dalle ore 9.00 siete tutti invitati al tradizionale mercatino di beneficenza nei pressi della canonica di fronte alla chiesa. Un’occasione unica per trovare oggetti originali per i vostri regali di Natale. Saranno esposti prodotti artigianali  realizzati a mano e oggettistica di qualsiasi genere:  abbigliamento e accessori\, bigiotteria\, decorazioni natalizie…una grande varietà di idee per anticipare l’acquisto dei vostri regali di Natale in favore di una buona causa. \nCome sempre le offerte raccolte verranno interamente devolute all’Associazione Luca O.N.L.U.S. e a coprire le adozioni a distanza che la Parrocchia sostiene già da alcuni anni. Certi della vostra presenza vi aspettiamo numerosi\, anche solo per una bicchierata in compagnia. GRAZIE! \nGruppo spontaneo “Diamoci la mano “
URL:https://treppocarnico.org/evento/mercatino-di-natale/
LOCATION:Sala Parrocchiale di Treppo Carnico\, Via Don Virginio Foschiani 1\, Treppo Carnico\, UDINE\, 33020\, Italia
CATEGORIES:Incontri e convegni
ATTACH;FMTTYPE=image/jpeg:https://treppocarnico.org/wp-content/uploads/2015/12/mercatino2015.jpg
END:VEVENT
BEGIN:VEVENT
DTSTART;TZID=Europe/Rome:20151205T180000
DTEND;TZID=Europe/Rome:20151205T210000
DTSTAMP:20260424T104543
CREATED:20151121T114338Z
LAST-MODIFIED:20151121T120252Z
UID:5421-1449338400-1449349200@treppocarnico.org
SUMMARY:Arriva San Nicolò
DESCRIPTION:Arriva San Nicolò\nL’ A.C.D.S. di Treppo Carnico\, in collaborazione con l’A.N.A. di Treppo Carnico e Ligosullo organizza l’annuale incontro con San Nicolò. Ci troveremo nel cortile della Palestra comunale ed entreremo assieme al Grande Amico dei bambini\, per la distribuzione dei doni. Successivamente tutti insieme per gustare un ottima pastasciutta!!! \n Vi aspettiamo! \nPer informazioni contattate il Presidente Del Bon Miuri: 333-4218222
URL:https://treppocarnico.org/evento/arriva-san-nicolo/
LOCATION:Palestra Comunale\, Via Giacomo Leopardi 52\, Treppo Carnico\, udine\, 33020\, Italia
CATEGORIES:Incontri e convegni
ATTACH;FMTTYPE=image/jpeg:https://treppocarnico.org/wp-content/uploads/2015/11/san_nicolo.jpg
END:VEVENT
END:VCALENDAR