BEGIN:VCALENDAR
VERSION:2.0
PRODID:-//Treppocarnico.org - ECPv6.15.13//NONSGML v1.0//EN
CALSCALE:GREGORIAN
METHOD:PUBLISH
X-ORIGINAL-URL:https://treppocarnico.org
X-WR-CALDESC:Eventi per Treppocarnico.org
REFRESH-INTERVAL;VALUE=DURATION:PT1H
X-Robots-Tag:noindex
X-PUBLISHED-TTL:PT1H
BEGIN:VTIMEZONE
TZID:Europe/Rome
BEGIN:DAYLIGHT
TZOFFSETFROM:+0100
TZOFFSETTO:+0200
TZNAME:CEST
DTSTART:20240331T010000
END:DAYLIGHT
BEGIN:STANDARD
TZOFFSETFROM:+0200
TZOFFSETTO:+0100
TZNAME:CET
DTSTART:20241027T010000
END:STANDARD
BEGIN:DAYLIGHT
TZOFFSETFROM:+0100
TZOFFSETTO:+0200
TZNAME:CEST
DTSTART:20250330T010000
END:DAYLIGHT
BEGIN:STANDARD
TZOFFSETFROM:+0200
TZOFFSETTO:+0100
TZNAME:CET
DTSTART:20251026T010000
END:STANDARD
BEGIN:DAYLIGHT
TZOFFSETFROM:+0100
TZOFFSETTO:+0200
TZNAME:CEST
DTSTART:20260329T010000
END:DAYLIGHT
BEGIN:STANDARD
TZOFFSETFROM:+0200
TZOFFSETTO:+0100
TZNAME:CET
DTSTART:20261025T010000
END:STANDARD
END:VTIMEZONE
BEGIN:VEVENT
DTSTART;TZID=Europe/Rome:20250725T204500
DTEND;TZID=Europe/Rome:20250725T210000
DTSTAMP:20260419T192055
CREATED:20250716T164450Z
LAST-MODIFIED:20250618T165448Z
UID:19765-1753476300-1753477200@treppocarnico.org
SUMMARY:Concerto "Futura"
DESCRIPTION:Per il ciclo di eventi “Estate a Treppo”\, l’Associazione Culturale “Elio Cav. Cortolezzis” è lieta di invitarvi al concerto dedicato a Lucio Dalla con Leonardo Zannier\, Ismaele Marangon e Max Pasut\, intitolato “FUTURA Un viaggio emozionale attraverso le parole e le note di Lucio Dalla”.\n\nIngresso con offerta libera
URL:https://treppocarnico.org/evento/concerto-futura/
LOCATION:Biblioteca comunale\, Via Giacomo matteotti n°9\, Treppo Carnico\, UD\, 33014\, Italia
CATEGORIES:Concerti
ATTACH;FMTTYPE=image/jpeg:https://treppocarnico.org/wp-content/uploads/2025/07/DallaRadio.jpg
ORGANIZER;CN="Associazione Culturale Elio Cav. Cortolezzis":MAILTO:angela.cortolezzis@live.it
END:VEVENT
END:VCALENDAR