BEGIN:VCALENDAR
VERSION:2.0
PRODID:-//Treppocarnico.org - ECPv6.15.13//NONSGML v1.0//EN
CALSCALE:GREGORIAN
METHOD:PUBLISH
X-ORIGINAL-URL:https://treppocarnico.org
X-WR-CALDESC:Eventi per Treppocarnico.org
REFRESH-INTERVAL;VALUE=DURATION:PT1H
X-Robots-Tag:noindex
X-PUBLISHED-TTL:PT1H
BEGIN:VTIMEZONE
TZID:Europe/Rome
BEGIN:DAYLIGHT
TZOFFSETFROM:+0100
TZOFFSETTO:+0200
TZNAME:CEST
DTSTART:20230326T010000
END:DAYLIGHT
BEGIN:STANDARD
TZOFFSETFROM:+0200
TZOFFSETTO:+0100
TZNAME:CET
DTSTART:20231029T010000
END:STANDARD
BEGIN:DAYLIGHT
TZOFFSETFROM:+0100
TZOFFSETTO:+0200
TZNAME:CEST
DTSTART:20240331T010000
END:DAYLIGHT
BEGIN:STANDARD
TZOFFSETFROM:+0200
TZOFFSETTO:+0100
TZNAME:CET
DTSTART:20241027T010000
END:STANDARD
BEGIN:DAYLIGHT
TZOFFSETFROM:+0100
TZOFFSETTO:+0200
TZNAME:CEST
DTSTART:20250330T010000
END:DAYLIGHT
BEGIN:STANDARD
TZOFFSETFROM:+0200
TZOFFSETTO:+0100
TZNAME:CET
DTSTART:20251026T010000
END:STANDARD
END:VTIMEZONE
BEGIN:VEVENT
DTSTART;TZID=Europe/Rome:20240602T180000
DTEND;TZID=Europe/Rome:20240602T193000
DTSTAMP:20260420T161005
CREATED:20240518T082457Z
LAST-MODIFIED:20240515T173608Z
UID:14093-1717351200-1717356600@treppocarnico.org
SUMMARY:Evento "Dal segno al suono"
DESCRIPTION:Domenica 2 giugno\, presso la Galleria d’Arte Moderna “E. De Cillia” di Treppo Ligosullo\, terminerà “Voltarsi indietro”\, la mostra dedicata a una delle figure di spicco del panorama culturale della nostra regione: Giuseppe Zigaina. Nell’occasione\, con inizio alle ore 18.00 si terrà un evento con parole e musica dal titolo “Dal segno al suono”\, un percorso narrato e suonato alla chitarra acustica da parte della chitarrista friulana Paola Selva.\nIngresso libero fino alla capienza massima consentita.
URL:https://treppocarnico.org/evento/evento-dal-segno-al-suono/
LOCATION:Galleria d’Arte Moderna Enrico De Cillia\, Via Giacomo Matteotti 12\, Treppo Carnico\, Udine\, 33020\, Italia
CATEGORIES:Concerti
ATTACH;FMTTYPE=image/jpeg:https://treppocarnico.org/wp-content/uploads/2024/05/selva.jpg
END:VEVENT
END:VCALENDAR